BEGIN:VCALENDAR
VERSION:2.0
PRODID:-//www.sumiswald.ch//NONSGML kigkonsult.se iCalcreator 2.22//
CALSCALE:GREGORIAN
METHOD:PUBLISH
X-WR-TIMEZONE:Europe/Berlin
BEGIN:VEVENT
UID:20260420T030215CEST-3987N4iV3b@www.sumiswald.ch
DTSTAMP:20260420T010215Z
DESCRIPTION:Klicken Sie auf den folgenden Link\, um weitere Informationen z
 ur Veranstaltung zu erhalten:\nhttp://www.sumiswald.ch/de/veranstaltungen/
 detail/detail.php?i=985
DTSTART:20260423T193000
DTEND:20260423T220000
LOCATION:Eventkeller
SUMMARY:Marina & Ädu 
END:VEVENT
END:VCALENDAR
